BEGIN:VCALENDAR
VERSION:2.0
PRODID:-//hacksw/handcal//NONSGML v1.0//EN
BEGIN:VEVENT
DTSTAMP:20180410T123000Z
DTSTART:20180410T123000Z
DTEND:20180410T123000Z
LOCATION:Bürgertreff unter den Linden, Rommelsbacher Straße 1 , Reutlingen, 72760, Deutschland
SUMMARY:Mitgliederversammlung Senioren Union mit Michael Donth MbB
END:VEVENT
END:VCALENDAR
